BEGIN:VCALENDAR
VERSION:2.0
PRODID:-//Verein Bildung und Kultur in Belm e.V. - ECPv6.15.13.1//NONSGML v1.0//EN
CALSCALE:GREGORIAN
METHOD:PUBLISH
X-ORIGINAL-URL:https://www.kulturverein-belm.de
X-WR-CALDESC:Veranstaltungen für Verein Bildung und Kultur in Belm e.V.
REFRESH-INTERVAL;VALUE=DURATION:PT1H
X-Robots-Tag:noindex
X-PUBLISHED-TTL:PT1H
BEGIN:VTIMEZONE
TZID:Europe/Berlin
BEGIN:DAYLIGHT
TZOFFSETFROM:+0100
TZOFFSETTO:+0200
TZNAME:CEST
DTSTART:20250330T010000
END:DAYLIGHT
BEGIN:STANDARD
TZOFFSETFROM:+0200
TZOFFSETTO:+0100
TZNAME:CET
DTSTART:20251026T010000
END:STANDARD
BEGIN:DAYLIGHT
TZOFFSETFROM:+0100
TZOFFSETTO:+0200
TZNAME:CEST
DTSTART:20260329T010000
END:DAYLIGHT
BEGIN:STANDARD
TZOFFSETFROM:+0200
TZOFFSETTO:+0100
TZNAME:CET
DTSTART:20261025T010000
END:STANDARD
BEGIN:DAYLIGHT
TZOFFSETFROM:+0100
TZOFFSETTO:+0200
TZNAME:CEST
DTSTART:20270328T010000
END:DAYLIGHT
BEGIN:STANDARD
TZOFFSETFROM:+0200
TZOFFSETTO:+0100
TZNAME:CET
DTSTART:20271031T010000
END:STANDARD
END:VTIMEZONE
BEGIN:VEVENT
DTSTART;TZID=Europe/Berlin:20260508T143000
DTEND;TZID=Europe/Berlin:20260508T170000
DTSTAMP:20260422T142649
CREATED:20260416T155912Z
LAST-MODIFIED:20260416T160027Z
UID:10001377-1778250600-1778259600@www.kulturverein-belm.de
SUMMARY:Repair Café Belm
DESCRIPTION:„Im Belmer Repair Café reparieren Sie ihre defekten Geräte unter Anleitung selber und \nbegegnen Gleichgesinnten auf Wunsch auch bei einer Tasse Kaffee und einem Stück Kuchen“. \n  \nMit diesem Werbeslogan macht das Repair Cafe Belm auf sich aufmerksam. Regelmäßíg \n von 14.30 – 17.30 Uhr\, jeweils am 2. Freitag eines Monats\, \nsind die Damen und Herren für jedermann da.
URL:https://www.kulturverein-belm.de/veranstaltung/repair-cafe-belm/2026-05-08/
LOCATION:Kuturzentrum Belmer Mühle   –   Belmer Integrationswerkstatt\, Lindenstraße 68\, Belm\, 49191
ATTACH;FMTTYPE=image/jpeg:https://www.kulturverein-belm.de/wp-content/uploads/2025/05/2025-Repair-Cafe-66x22-mm.jpg
END:VEVENT
BEGIN:VEVENT
DTSTART;TZID=Europe/Berlin:20260612T143000
DTEND;TZID=Europe/Berlin:20260612T170000
DTSTAMP:20260422T142649
CREATED:20260416T155912Z
LAST-MODIFIED:20260416T160027Z
UID:10001378-1781274600-1781283600@www.kulturverein-belm.de
SUMMARY:Repair Café Belm
DESCRIPTION:„Im Belmer Repair Café reparieren Sie ihre defekten Geräte unter Anleitung selber und \nbegegnen Gleichgesinnten auf Wunsch auch bei einer Tasse Kaffee und einem Stück Kuchen“. \n  \nMit diesem Werbeslogan macht das Repair Cafe Belm auf sich aufmerksam. Regelmäßíg \n von 14.30 – 17.30 Uhr\, jeweils am 2. Freitag eines Monats\, \nsind die Damen und Herren für jedermann da.
URL:https://www.kulturverein-belm.de/veranstaltung/repair-cafe-belm/2026-06-12/
LOCATION:Kuturzentrum Belmer Mühle   –   Belmer Integrationswerkstatt\, Lindenstraße 68\, Belm\, 49191
ATTACH;FMTTYPE=image/jpeg:https://www.kulturverein-belm.de/wp-content/uploads/2025/05/2025-Repair-Cafe-66x22-mm.jpg
END:VEVENT
BEGIN:VEVENT
DTSTART;TZID=Europe/Berlin:20260710T143000
DTEND;TZID=Europe/Berlin:20260710T170000
DTSTAMP:20260422T142649
CREATED:20260416T155912Z
LAST-MODIFIED:20260416T160027Z
UID:10001379-1783693800-1783702800@www.kulturverein-belm.de
SUMMARY:Repair Café Belm
DESCRIPTION:„Im Belmer Repair Café reparieren Sie ihre defekten Geräte unter Anleitung selber und \nbegegnen Gleichgesinnten auf Wunsch auch bei einer Tasse Kaffee und einem Stück Kuchen“. \n  \nMit diesem Werbeslogan macht das Repair Cafe Belm auf sich aufmerksam. Regelmäßíg \n von 14.30 – 17.30 Uhr\, jeweils am 2. Freitag eines Monats\, \nsind die Damen und Herren für jedermann da.
URL:https://www.kulturverein-belm.de/veranstaltung/repair-cafe-belm/2026-07-10/
LOCATION:Kuturzentrum Belmer Mühle   –   Belmer Integrationswerkstatt\, Lindenstraße 68\, Belm\, 49191
ATTACH;FMTTYPE=image/jpeg:https://www.kulturverein-belm.de/wp-content/uploads/2025/05/2025-Repair-Cafe-66x22-mm.jpg
END:VEVENT
BEGIN:VEVENT
DTSTART;TZID=Europe/Berlin:20260814T143000
DTEND;TZID=Europe/Berlin:20260814T170000
DTSTAMP:20260422T142649
CREATED:20260416T155912Z
LAST-MODIFIED:20260416T160027Z
UID:10001380-1786717800-1786726800@www.kulturverein-belm.de
SUMMARY:Repair Café Belm
DESCRIPTION:„Im Belmer Repair Café reparieren Sie ihre defekten Geräte unter Anleitung selber und \nbegegnen Gleichgesinnten auf Wunsch auch bei einer Tasse Kaffee und einem Stück Kuchen“. \n  \nMit diesem Werbeslogan macht das Repair Cafe Belm auf sich aufmerksam. Regelmäßíg \n von 14.30 – 17.30 Uhr\, jeweils am 2. Freitag eines Monats\, \nsind die Damen und Herren für jedermann da.
URL:https://www.kulturverein-belm.de/veranstaltung/repair-cafe-belm/2026-08-14/
LOCATION:Kuturzentrum Belmer Mühle   –   Belmer Integrationswerkstatt\, Lindenstraße 68\, Belm\, 49191
ATTACH;FMTTYPE=image/jpeg:https://www.kulturverein-belm.de/wp-content/uploads/2025/05/2025-Repair-Cafe-66x22-mm.jpg
END:VEVENT
BEGIN:VEVENT
DTSTART;TZID=Europe/Berlin:20260911T143000
DTEND;TZID=Europe/Berlin:20260911T170000
DTSTAMP:20260422T142649
CREATED:20260416T155912Z
LAST-MODIFIED:20260416T160027Z
UID:10001381-1789137000-1789146000@www.kulturverein-belm.de
SUMMARY:Repair Café Belm
DESCRIPTION:„Im Belmer Repair Café reparieren Sie ihre defekten Geräte unter Anleitung selber und \nbegegnen Gleichgesinnten auf Wunsch auch bei einer Tasse Kaffee und einem Stück Kuchen“. \n  \nMit diesem Werbeslogan macht das Repair Cafe Belm auf sich aufmerksam. Regelmäßíg \n von 14.30 – 17.30 Uhr\, jeweils am 2. Freitag eines Monats\, \nsind die Damen und Herren für jedermann da.
URL:https://www.kulturverein-belm.de/veranstaltung/repair-cafe-belm/2026-09-11/
LOCATION:Kuturzentrum Belmer Mühle   –   Belmer Integrationswerkstatt\, Lindenstraße 68\, Belm\, 49191
ATTACH;FMTTYPE=image/jpeg:https://www.kulturverein-belm.de/wp-content/uploads/2025/05/2025-Repair-Cafe-66x22-mm.jpg
END:VEVENT
BEGIN:VEVENT
DTSTART;TZID=Europe/Berlin:20261009T143000
DTEND;TZID=Europe/Berlin:20261009T170000
DTSTAMP:20260422T142649
CREATED:20260416T155912Z
LAST-MODIFIED:20260416T160027Z
UID:10001382-1791556200-1791565200@www.kulturverein-belm.de
SUMMARY:Repair Café Belm
DESCRIPTION:„Im Belmer Repair Café reparieren Sie ihre defekten Geräte unter Anleitung selber und \nbegegnen Gleichgesinnten auf Wunsch auch bei einer Tasse Kaffee und einem Stück Kuchen“. \n  \nMit diesem Werbeslogan macht das Repair Cafe Belm auf sich aufmerksam. Regelmäßíg \n von 14.30 – 17.30 Uhr\, jeweils am 2. Freitag eines Monats\, \nsind die Damen und Herren für jedermann da.
URL:https://www.kulturverein-belm.de/veranstaltung/repair-cafe-belm/2026-10-09/
LOCATION:Kuturzentrum Belmer Mühle   –   Belmer Integrationswerkstatt\, Lindenstraße 68\, Belm\, 49191
ATTACH;FMTTYPE=image/jpeg:https://www.kulturverein-belm.de/wp-content/uploads/2025/05/2025-Repair-Cafe-66x22-mm.jpg
END:VEVENT
BEGIN:VEVENT
DTSTART;TZID=Europe/Berlin:20261113T143000
DTEND;TZID=Europe/Berlin:20261113T170000
DTSTAMP:20260422T142649
CREATED:20260416T155912Z
LAST-MODIFIED:20260416T160027Z
UID:10001383-1794580200-1794589200@www.kulturverein-belm.de
SUMMARY:Repair Café Belm
DESCRIPTION:„Im Belmer Repair Café reparieren Sie ihre defekten Geräte unter Anleitung selber und \nbegegnen Gleichgesinnten auf Wunsch auch bei einer Tasse Kaffee und einem Stück Kuchen“. \n  \nMit diesem Werbeslogan macht das Repair Cafe Belm auf sich aufmerksam. Regelmäßíg \n von 14.30 – 17.30 Uhr\, jeweils am 2. Freitag eines Monats\, \nsind die Damen und Herren für jedermann da.
URL:https://www.kulturverein-belm.de/veranstaltung/repair-cafe-belm/2026-11-13/
LOCATION:Kuturzentrum Belmer Mühle   –   Belmer Integrationswerkstatt\, Lindenstraße 68\, Belm\, 49191
ATTACH;FMTTYPE=image/jpeg:https://www.kulturverein-belm.de/wp-content/uploads/2025/05/2025-Repair-Cafe-66x22-mm.jpg
END:VEVENT
BEGIN:VEVENT
DTSTART;TZID=Europe/Berlin:20261211T143000
DTEND;TZID=Europe/Berlin:20261211T170000
DTSTAMP:20260422T142649
CREATED:20260416T155912Z
LAST-MODIFIED:20260416T160027Z
UID:10001384-1796999400-1797008400@www.kulturverein-belm.de
SUMMARY:Repair Café Belm
DESCRIPTION:„Im Belmer Repair Café reparieren Sie ihre defekten Geräte unter Anleitung selber und \nbegegnen Gleichgesinnten auf Wunsch auch bei einer Tasse Kaffee und einem Stück Kuchen“. \n  \nMit diesem Werbeslogan macht das Repair Cafe Belm auf sich aufmerksam. Regelmäßíg \n von 14.30 – 17.30 Uhr\, jeweils am 2. Freitag eines Monats\, \nsind die Damen und Herren für jedermann da.
URL:https://www.kulturverein-belm.de/veranstaltung/repair-cafe-belm/2026-12-11/
LOCATION:Kuturzentrum Belmer Mühle   –   Belmer Integrationswerkstatt\, Lindenstraße 68\, Belm\, 49191
ATTACH;FMTTYPE=image/jpeg:https://www.kulturverein-belm.de/wp-content/uploads/2025/05/2025-Repair-Cafe-66x22-mm.jpg
END:VEVENT
END:VCALENDAR