BEGIN:VCALENDAR
VERSION:2.0
PRODID:-//Verein Bildung und Kultur in Belm e.V. - ECPv6.15.13.1//NONSGML v1.0//EN
CALSCALE:GREGORIAN
METHOD:PUBLISH
X-WR-CALNAME:Verein Bildung und Kultur in Belm e.V.
X-ORIGINAL-URL:https://www.kulturverein-belm.de
X-WR-CALDESC:Veranstaltungen für Verein Bildung und Kultur in Belm e.V.
REFRESH-INTERVAL;VALUE=DURATION:PT1H
X-Robots-Tag:noindex
X-PUBLISHED-TTL:PT1H
BEGIN:VTIMEZONE
TZID:Europe/Berlin
BEGIN:DAYLIGHT
TZOFFSETFROM:+0100
TZOFFSETTO:+0200
TZNAME:CEST
DTSTART:20220327T010000
END:DAYLIGHT
BEGIN:STANDARD
TZOFFSETFROM:+0200
TZOFFSETTO:+0100
TZNAME:CET
DTSTART:20221030T010000
END:STANDARD
BEGIN:DAYLIGHT
TZOFFSETFROM:+0100
TZOFFSETTO:+0200
TZNAME:CEST
DTSTART:20230326T010000
END:DAYLIGHT
BEGIN:STANDARD
TZOFFSETFROM:+0200
TZOFFSETTO:+0100
TZNAME:CET
DTSTART:20231029T010000
END:STANDARD
BEGIN:DAYLIGHT
TZOFFSETFROM:+0100
TZOFFSETTO:+0200
TZNAME:CEST
DTSTART:20240331T010000
END:DAYLIGHT
BEGIN:STANDARD
TZOFFSETFROM:+0200
TZOFFSETTO:+0100
TZNAME:CET
DTSTART:20241027T010000
END:STANDARD
END:VTIMEZONE
BEGIN:VEVENT
DTSTART;TZID=Europe/Berlin:20230908T143000
DTEND;TZID=Europe/Berlin:20230908T143000
DTSTAMP:20260422T143408
CREATED:20230815T203140Z
LAST-MODIFIED:20230905T145910Z
UID:10000008-1694183400-1694183400@www.kulturverein-belm.de
SUMMARY:Velotour 4 - "Auf der Feierabendroute"
DESCRIPTION:„Feierabendroute“\nWer erinnert sich nicht an die Zeit\, an dem der verdiente Feierabend einen ganz besonderen Stellenwert besaß. Versetzen wir uns in diese gute alte Zeit und beginnen mit unserer Feierabendroute am Sportzentrum in Belm. Nicht mehr als 30 km stehen nach unserer Tour auf dem Fahrradtacho\, sodass wir in den wohlverdienten Feierabend erst um 14.30 Uhr starten werden. \nLos geht´s Richtung Gretesch\, vorbei an Fa. Schoeller und weiter Richtung Lüstringen und Natbergen. \n \n                  \n  \n  \n  \n             \n  \n  \n  \n  \n  \n  \nDie Hase bei Lüstringen                                                                       Am Stockumer Berg \nWir passieren die Reitanlage am Stockumer Berg und biegen dann am Ortseingang von Bissendorf scharf nach links ab\, durchqueren ein kurzes Stück einer Wohnsiedlung\, und erreichen kurz danach Bissendorf-Stockum. Hier legen wir am Hofladen von Silke Wissing und Stefan Middendorf eine kleine Pause ein\, besteht doch die Möglichkeit neben Eiern\, Milch und Honig etc. auch gekühlte Getränke und Eis zu kaufen und zu konsumieren. \n \n                                 Das„Begrüßungskomite”.                                                              Der Hofladen\, auch ein beliebter Treffpunkt \n  \n \n                     Eindrücke vom Hof \, E-Bike  Ladestation                                                                                        „Küken Piepshow“ \nWeiter geht’s nach Wissingen\, wo wir kurz vor dem Bahnübergang nach rechts abbiegen und bald darauf einen der wenigen beschrankten Bahnübergänge im Landkreis Osnabrück erreichen\, wo die Überquerung des Gleisüberganges per Rufanmeldung angefordert werden muss.                                                                       \n \nÖffnen nur auf Anfrage \nWir erreichen Linne und fahren entlang der Wierau\, und weiter auf dem Linner Kirchweg Richtung Schledehausen. \n \n  \n  \n  \n  \n  \n  \n  \n  \n  \nDie Schelenburg                                                                                                                                         Die Wierau mit Schelenburg \nHier angekommen\, wollen wir uns im Restaurant Hünerbein zusammensetzen\, um den Feierabend zu genießen. \nNach dem Essen brechen wir zur Heimfahrt auf\, umfahren den Golfplatz und das neue\, weithin sichtbare Windrad mit einer Gesamthöhe von 194 Metern in Wellingen\, und erreichen gegen 20.00 Uhr wieder Belm. \nTermin: 08.09.2023 \nTreffpunkt: Sportzentrum Belm um 14.30 Uhr \nAnkunft Hofladen Stockum:  ca. 16.00 Uhr \nAnkunft Schledehausen: ca. 17.00 Uhr \nRückkehr Belm: ca. 20.00 Uhr \nStreckenlänge: ca. 30 KM \nKosten: keine  \nAnspruchsniveau:  \n***** Schwierigkeitsgrad 2 auf der Skala 1-5. \nLeichte Radtour in überwiegend flachem\, teilweise welligem Gelände \nPedelec empfohlen.  \nEine Anmeldung online\, nur hier unten auf dieser Seite\, ist unbedingt erforderlich.  \nOrganisatorisch bedingte Änderungen unter Vorbehalt. \nBilder und Text \nUSar
URL:https://www.kulturverein-belm.de/veranstaltung/velotour-4-auf-der-feierabendroute/
ATTACH;FMTTYPE=image/jpeg:https://www.kulturverein-belm.de/wp-content/uploads/2023/08/Velotour-4-Feierabendroute.jpg
END:VEVENT
BEGIN:VEVENT
DTSTART;TZID=Europe/Berlin:20230901T180000
DTEND;TZID=Europe/Berlin:20230901T220000
DTSTAMP:20260422T143408
CREATED:20230815T192120Z
LAST-MODIFIED:20230819T112213Z
UID:10000026-1693591200-1693605600@www.kulturverein-belm.de
SUMMARY:Marktplatz Belm – Firestarter Partyband – Rock Coverband - draußen und umsonst
DESCRIPTION:
URL:https://www.kulturverein-belm.de/veranstaltung/marktplatz-belm-firestarter-partyband-rock-covwerband-draussen-und-umsonst/
LOCATION:Marktplatz Belm\, Marktring 17\, Belm\, 49191
END:VEVENT
BEGIN:VEVENT
DTSTART;TZID=Europe/Berlin:20230823T124500
DTEND;TZID=Europe/Berlin:20230823T124500
DTSTAMP:20260422T143408
CREATED:20230813T151007Z
LAST-MODIFIED:20230819T121948Z
UID:10000015-1692794700-1692794700@www.kulturverein-belm.de
SUMMARY:Natur pur: Erlebnisfahrt mit der Ströher Moorbahn zum Moorpadd und Besuch des Europäischen Fachzentrums Moor und Klima
DESCRIPTION:Wir starten in Belm um 11:30 Uhr in Richtung Wagenfeld und werden um 12:30 Uhr bei den Moorwelten Europäisches Fachzentrum Moor und Klima Wagenfeld GmbH erwartet. \n\nMit der Ströher Moorbahn fahren wir um 13:00 Uhr ins Herz der Diepholzer Moorniederung\, nach ca. 30 Minuten gemütlicher Reise und einer Geschwindigkeit von 6 km/h erreichen wir den Moorpadd und das Neustädter Moor. \nWir erkunden den Naturerlebnispfad auf dem ca. 1\,3 km langen Rundkurs durch die verschiedenen Vegetationsstufen des Naturschutzgebietes mit seinen faszinierenden Pflanzen- und Tierwelten\, erfahren etwas über die Entstehung der Moore \, deren Beitrag und Bedeutung für den Klimaschutz.  An 19 Stationen werden unterschiedliche Themen über den Lebensraum Moor behandelt. \nDauer des Aufenthaltes mit fachkundiger Führung – ca. 1 Stunde . Danach geht es weiter vorbei an Moorlandschaften und Auen Richtung Ausgangspunkt\, den wir gegen 15:00 Uhr erreichen. Nach einer Kaffeepause und zwei Stücke Blechkuchen zum Preis von 8\,90 Euro/Person begeben wir uns ins Besucherzentrum. Dieses macht sich stark für den Erhalt der Moore und durch eine multimediale Ausstellung werden wir viele Informationen über den Lebensraum Moor erhalten. Nach kurzer Einführung erhält jeder Teilnehmer einen Audioguide und startet seine Tour. \nDas Besucherzentrum schließt um 17.00 Uhr. Danach treten wir die Heimreise an und erreichen Belm ca. 18.00 Uhr. \nKosten der Moorbahnfahrt\, Führung am Moorpadd\, Eintritt in das Europäische Fachzentrum Moor und Klima:  15\,00 Euro/Person.  Kaffee und Kuchen: Selbstzahler. \nWir haben 30 Plätze für die BiKult-Gruppe reserviert.  Anmeldungen sind bis zum 14. August 2023 vorzunehmen. \nBiKult wünscht einen wunderbaren Tag in der Natur. \nDie Treffpunkte\, entweder zur Bildung von Fahrgemeinschaften sind das Sportzentrum am Heideweg in Belm um 11:30 Uhr oder bei Direktanfahrt\, das Europäische Fachzentrum Moor und Klima\, Auf dem Sande 11\, 49419 Wagenfeld um 12:45 Uhr. Parkmöglichkeiten sind vorhanden.\n \nEine Anmeldung online\, nur hier unten auf dieser Seite\, ist unbedingt erforderlich. Die zeitgleiche Überweisung ist Bestandteil der Anmeldung. Bitte bei der Anmeldung den ihrerseits geplanten Treffpunkt angeben\, damit die Belmer nicht vergebens warten. \nSollten bis zum 14. August 2023 keine weiteren Hinweise vorgenommen werden\, gehen wir davon aus\, dass das Angebot Kaffee und Kuchen angenommen wird. \nHinweis:   Organisatorische Änderungen\, die sich vor Ort ergeben\, unter Vorbehalt! \nText: M. Liliensiek – Foto:  Bilder copyright Gemeinde Wagenfeld.
URL:https://www.kulturverein-belm.de/veranstaltung/natur-pur-erlebnisfahrt-mit-der-stroeher-moorbahn-zum-moorpadd-und-besuch-europaeisches-fachzentrum-moor-und-klima/
LOCATION:Ströhener Moor Wagenfeld\, Auf dem Sande 11\, Wagenfeld\, 19419
ATTACH;FMTTYPE=image/jpeg:https://www.kulturverein-belm.de/wp-content/uploads/2023/08/Fahrgemeinschaft-HF.jpg
END:VEVENT
BEGIN:VEVENT
DTSTART;TZID=Europe/Berlin:20230821T190000
DTEND;TZID=Europe/Berlin:20230821T190000
DTSTAMP:20260422T143408
CREATED:20230726T182933Z
LAST-MODIFIED:20230815T185416Z
UID:10000004-1692644400-1692644400@www.kulturverein-belm.de
SUMMARY:Einladung zur Außerordentlichen Mitgliederversammlung
DESCRIPTION:An alle BiKult-Mitglieder\, \nder aktuelle BiKult-Vorstand lädt hiermit termingerecht alle Mitglieder gemäß § 9\, Absatz 2 der Satzung zu einer außerordentlichen Mitgliederversammlung am\n \nMontag\, den 21. August 2023\,\n \nBeginn: um 19.00 Uhr\, \n in das Gemeindehaus der ev.-luth. Christus-Kirchengemeinde Belm\, Belmer Str. 1\, \nein.\n \nDie vorläufigen Tagesordnungspunkte (TOPs) sind: \n1. Begrüßung\, Feststellung der Anwesenheit und Genehmigung der Tagesordnung \n2. Änderungen und Neufassung der BiKult Satzung \n3. Wahl eines neuen Vorstandes bestehend aus fünf bis sieben gleichberechtigten Personen \n4. Fortführung der „Digitalen Sprechstunde Belm“ ab Donnerstag\, den 14. September 2023 \n5. Umbenennung des PC-Club 60+ in PC-und Handy-Club 60+ \n6. Vorstellung der neuen BiKult Webseite \n7. Sonstiges / Verschiedenes \n  \nDen Einladungsschreiben per E-Mail und Postversand zur Versammlung sind die geplanten Änderungspunkte der aktuellen BiKult Satzung vom 20. März 2015 zu TOP2 beigefügt. \nDer BiKult Vorstand \n 
URL:https://www.kulturverein-belm.de/veranstaltung/ausserordentliche-mitgliederversammlung/
LOCATION:Gemeindehaus der ev.-luth. Christuskirche Belm\,\, Belmer Str. 1\, Belm\, 49191
ATTACH;FMTTYPE=image/jpeg:https://www.kulturverein-belm.de/wp-content/uploads/2023/07/Versammlung.jpg
END:VEVENT
END:VCALENDAR