BEGIN:VCALENDAR
VERSION:2.0
PRODID:-//Verein Bildung und Kultur in Belm e.V. - ECPv6.15.13.1//NONSGML v1.0//EN
CALSCALE:GREGORIAN
METHOD:PUBLISH
X-ORIGINAL-URL:https://www.kulturverein-belm.de
X-WR-CALDESC:Veranstaltungen für Verein Bildung und Kultur in Belm e.V.
REFRESH-INTERVAL;VALUE=DURATION:PT1H
X-Robots-Tag:noindex
X-PUBLISHED-TTL:PT1H
BEGIN:VTIMEZONE
TZID:Europe/Berlin
BEGIN:DAYLIGHT
TZOFFSETFROM:+0100
TZOFFSETTO:+0200
TZNAME:CEST
DTSTART:20240331T010000
END:DAYLIGHT
BEGIN:STANDARD
TZOFFSETFROM:+0200
TZOFFSETTO:+0100
TZNAME:CET
DTSTART:20241027T010000
END:STANDARD
BEGIN:DAYLIGHT
TZOFFSETFROM:+0100
TZOFFSETTO:+0200
TZNAME:CEST
DTSTART:20250330T010000
END:DAYLIGHT
BEGIN:STANDARD
TZOFFSETFROM:+0200
TZOFFSETTO:+0100
TZNAME:CET
DTSTART:20251026T010000
END:STANDARD
BEGIN:DAYLIGHT
TZOFFSETFROM:+0100
TZOFFSETTO:+0200
TZNAME:CEST
DTSTART:20260329T010000
END:DAYLIGHT
BEGIN:STANDARD
TZOFFSETFROM:+0200
TZOFFSETTO:+0100
TZNAME:CET
DTSTART:20261025T010000
END:STANDARD
END:VTIMEZONE
BEGIN:VEVENT
DTSTART;TZID=Europe/Berlin:20250209T080000
DTEND;TZID=Europe/Berlin:20250930T233000
DTSTAMP:20260422T125724
CREATED:20250209T134156Z
LAST-MODIFIED:20250519T152204Z
UID:10000561-1739088000-1759275000@www.kulturverein-belm.de
SUMMARY:BiKult Theater Gruppe - Schnupper Abo 2025 / 2026
DESCRIPTION:Vorhang auf ! Das Theater kann beginnen\nUnter diesem Motto startete unsere Gruppe von Theaterbegeisterten stets zu Beginn des Winterhalbjahres mit dem Start des Vorverkaufes für die Saison des jeweils kommenden Jahres. Im Rahmen eines Schnupperabos mit 5 Vorstellungen besuchten wir gemeinsam Konzerte\, Tanzaufführungen\, Dramen\, Schauspiele und Musicals des Theaters Osnabrück . \nZiel war es immer\, gemeinsam (in Fahrgemeinschaften) mit Gleichgesinnten\, die Vorstellungen zu genießen und anschließend bei einem Glas Wein\, Bier\, Wasser oder Sonstigem\, meistens im Theater Bistro  „Lampenfieber“\, über die gerade erlebte Aufführung zu plaudern und den Abend in netter Runde ausklingen zu lassen. \nEin gemeinsamer Theaterbesuch macht viel mehr Spass und Freude; wie heißt es so schön: \n geteilte Freude ist doppelte Freude. \nIm letzten Jahr wurden die vom Veranstalter angebotenen Veranstaltungen als nicht so ganz interessant empfunden und wir haben in der Saison 2024 /2025 demzufolge einmal mit der BiKult Organisation ausgesetzt. Bei wieder gewonnenem Interesse für das Schnupper Abo für die Saison 2025 / 2026 bitten wir um \nKontaktaufnahme über 05406 817 95 94 oder info@bikult.de bis spätestens zum 01. Oktober 2025\, \nda der Vorverkauf der Schnupperkarten in der Regel im November beginnt.
URL:https://www.kulturverein-belm.de/veranstaltung/5175/
ATTACH;FMTTYPE=image/jpeg:https://www.kulturverein-belm.de/wp-content/uploads/2025/05/2025-Theatergruppe-66x22-mm.jpg
END:VEVENT
BEGIN:VEVENT
DTSTART;TZID=Europe/Berlin:20250704T180000
DTEND;TZID=Europe/Berlin:20250704T220000
DTSTAMP:20260422T125724
CREATED:20250402T090024Z
LAST-MODIFIED:20250519T154538Z
UID:10000839-1751652000-1751666400@www.kulturverein-belm.de
SUMMARY:Jahr für Jahr über neun Wochen an jedem Freitagabend im Juli und August.........
DESCRIPTION:und das draußen und umsonst\, bietet der „Belmer Kultursommer“ von Volks- und Partymusik bis zu Beat-\, Rock- und Pop-Klassikern ein Musikprogramm\, bei dem für Jeden etwas dabei ist.\nHier das aktuelle Programm des Kultursommers 2025. \nWer tritt an welchem Freitag\, immer von 18 bis 22 Uhr\, wann und wo\, auf welcher Bühne auf. \n  \n04.07. Marktplatz Belm   –   The Beat mit bestem Beat der 70er und 80er \n11.07. Marktplatz Belm     –   Alacoustik mit Rock und Pop unplugged \n18.07. Marktplatz Belm     –   Fats Meyer Revival Band mit Rock Klassikern und Alternativ-Hits \n25.07. Marktplatz Belm     –   Gone Country mit New Countrymusik \n01.08. Marktplatz Belm     –   Fly Me To Malibu mit Rock\, Schlagern und Party \n08.08. Marktplatz Belm    –   Tiroler Partymander Volksmusik- und Party-Duo \n15.08. Marktplatz Belm     –   Maroon To Black mit Soul\, Pop\, Rock\, Akustik-Cover \n22.08. Marktplatz Belm     –   Touch Of Sound mit Rock Blues Pop\, Reggae und Band Balladen 1960 – 1980er \n29.08. Kirchplatz Icker      –   The Shady Four mit Rockn Roll der 50er und 60er \nText: US
URL:https://www.kulturverein-belm.de/veranstaltung/belmer-kultur-draussen-und-umsonst/2025-07-04/
ATTACH;FMTTYPE=image/jpeg:https://www.kulturverein-belm.de/wp-content/uploads/2025/05/2025-Belmer-Kultursommer-66x22-mm.jpg
END:VEVENT
END:VCALENDAR