BEGIN:VCALENDAR
VERSION:2.0
PRODID:-//Verein Bildung und Kultur in Belm e.V. - ECPv6.15.13.1//NONSGML v1.0//EN
CALSCALE:GREGORIAN
METHOD:PUBLISH
X-WR-CALNAME:Verein Bildung und Kultur in Belm e.V.
X-ORIGINAL-URL:https://www.kulturverein-belm.de
X-WR-CALDESC:Veranstaltungen für Verein Bildung und Kultur in Belm e.V.
REFRESH-INTERVAL;VALUE=DURATION:PT1H
X-Robots-Tag:noindex
X-PUBLISHED-TTL:PT1H
BEGIN:VTIMEZONE
TZID:Europe/Berlin
BEGIN:DAYLIGHT
TZOFFSETFROM:+0100
TZOFFSETTO:+0200
TZNAME:CEST
DTSTART:20250330T010000
END:DAYLIGHT
BEGIN:STANDARD
TZOFFSETFROM:+0200
TZOFFSETTO:+0100
TZNAME:CET
DTSTART:20251026T010000
END:STANDARD
BEGIN:DAYLIGHT
TZOFFSETFROM:+0100
TZOFFSETTO:+0200
TZNAME:CEST
DTSTART:20260329T010000
END:DAYLIGHT
BEGIN:STANDARD
TZOFFSETFROM:+0200
TZOFFSETTO:+0100
TZNAME:CET
DTSTART:20261025T010000
END:STANDARD
BEGIN:DAYLIGHT
TZOFFSETFROM:+0100
TZOFFSETTO:+0200
TZNAME:CEST
DTSTART:20270328T010000
END:DAYLIGHT
BEGIN:STANDARD
TZOFFSETFROM:+0200
TZOFFSETTO:+0100
TZNAME:CET
DTSTART:20271031T010000
END:STANDARD
END:VTIMEZONE
BEGIN:VEVENT
DTSTART;TZID=Europe/Berlin:20260309T090000
DTEND;TZID=Europe/Berlin:20260309T103000
DTSTAMP:20260424T133855
CREATED:20251223T231901Z
LAST-MODIFIED:20260101T180323Z
UID:10001334-1773046800-1773052200@www.kulturverein-belm.de
SUMMARY:Erfolgreich Recherchieren im Internet – mit Laptop\, Tablet oder Smartphone
DESCRIPTION:In diesem praxisorientierten PC-Kurs entdecken Sie die vielfältigen Möglichkeiten der Internetrecherche. Egal ob Sie ein Notebook\, Tablet oder Smartphone nutzen – Sie lernen die wichtigsten Programme und Werkzeuge kennen und erfahren\, wie Sie diese im Alltag gezielt und sicher einsetzen. \nFür wen ist der Kurs geeignet?\nDer Kurs richtet sich an alle interessierten Nutzerinnen und Nutzer\, die ihre mobilen Geräte besser verstehen möchten. \nDer Kurs richtet sich an Personen mit Vorkenntnissen im Umgang mit Ihren Geräten.\n\nDas erwartet Sie im Kurs: \n\nEinführung in Internet-Browser:\nSie erhalten einen Überblick über die gängigen Browser (Firefox\, Chrome usw.) und deren Funktionen. So wissen Sie\, wie Internetinhalte dargestellt und genutzt werden können.\nEffektiv suchen mit Suchmaschinen:\nSie erfahren\, wie Suchmaschinen (Google\, Yahoo\, Duckduckgo usw) arbeiten und wie Sie durch gezielte Eingaben bessere Ergebnisse erzielen.  Die Diskussion in der Gruppe hilft die Suchergebnisse besser einzuordnen.\nArbeiten mit KI-Systemen:\nModerne KI-Werkzeuge erweitern die Möglichkeiten der klassischen Suche. Sie lernen\, wie Sie über Dialogfunktionen Informationen verfeinern. KI bietet die Möglichkeit\, die eigenen Fragestellungen im Dialog zu lösen. Man kann „eigene“ Gedichte und Bilder erstellen.\nIndividuelle Unterstützung:\nSie sollen Ihre persönlichen Fragen und Probleme mitbringen. \nFür eine detailliert individuelle Beratung bietet Bikult die digitale Sprechstunde an! \n\nWann und wo findet der Kurs statt: \n\nder Kurs findet in der Regel alle 14 Tage am Montag in der Zeit von 9:00 – 10:30 Uhr statt\nTreffpunkt ist das Gemeindehaus der ev.-luth. Christuskirche\, Belmer Str. 1 in Belm.\n\nKosten und Voraussetzung: \n\nVoraussetzung für die Teilnahme an diesem Kurs ist eine BiKult Vereinsmitgliedschaft \nZudem fällt eine BiKult PC-Club Jahresgebühr von 18\,00 € an. Diese Jahresgebühr beinhaltet die Teilnahme an sämtlichen BiKult PC-Club Angeboten im Laufe eines Jahres. \n\nText NP
URL:https://www.kulturverein-belm.de/veranstaltung/erfolgreich-recherchieren-im-internet-mit-laptop-tablet-oder-smartphone/2026-03-09/
LOCATION:Gemeindehaus der ev.-luth. Christuskirche Belm\,\, Belmer Str. 1\, Belm\, 49191
CATEGORIES:PC-Club
ATTACH;FMTTYPE=image/jpeg:https://www.kulturverein-belm.de/wp-content/uploads/2024/03/2024-BiKult-PC-Club.jpg
END:VEVENT
BEGIN:VEVENT
DTSTART;TZID=Europe/Berlin:20260309T110000
DTEND;TZID=Europe/Berlin:20260309T123000
DTSTAMP:20260424T133855
CREATED:20260105T090508Z
LAST-MODIFIED:20260105T090508Z
UID:10001216-1773054000-1773059400@www.kulturverein-belm.de
SUMMARY:Kreativität in Bild und Text
DESCRIPTION:Alle 14 Tage \nIn der Gruppe „Kreatives in Bild und Text“  befassen sich Teilnehmer mit Kreativprogrammen. \nEs geht zurzeit vorwiegend um grafische Kreativität mit Strichen\, Kreisen\, Rechtecken\, Buchstaben und Zahlen. Texte neu zu gestalten\, Flyer\, Glückwunschkarten\, Plakate und Banner mit dem Programm CorelDRAW zu entwerfen und zu erstellen gehören ebenso dazu. Aber auch allgemeine Fotobearbeitung\, Bilder aus Zeitschriften/Zeitungen zu verändern. \n  \nWann und wo findet der Kurs statt: \n\nder Kurs findet in der Regel alle 14 Tage am Montag in der Zeit von 11:00 – 12:30 Uhr statt\nTreffpunkt ist das Gemeindehaus der ev.-luth. Christuskirche\, Belmer Str. 1 in Belm.\n\nKosten und Voraussetzung: \n\nVoraussetzung für die Teilnahme an diesem Kurs ist eine BiKult Vereinsmitgliedschaft \nZudem fällt eine BiKult PC-Club Jahresgebühr von 18\,00 € an. Diese Jahresgebühr beinhaltet die Teilnahme an sämtlichen BiKult PC-Club Angeboten im Laufe eines Jahres. \n\nText NP
URL:https://www.kulturverein-belm.de/veranstaltung/kreativitaet-in-bild-und-text-2/2026-03-09/
LOCATION:Gemeindehaus der ev.-luth. Christuskirche Belm\,\, Belmer Str. 1\, Belm\, 49191
CATEGORIES:PC-Club
ATTACH;FMTTYPE=image/jpeg:https://www.kulturverein-belm.de/wp-content/uploads/2025/05/2025-Kreativitaet-in-Bild-und-Text-66x22-mm.jpg
END:VEVENT
BEGIN:VEVENT
DTSTART;TZID=Europe/Berlin:20260312T090000
DTEND;TZID=Europe/Berlin:20260312T103000
DTSTAMP:20260424T133855
CREATED:20251223T231430Z
LAST-MODIFIED:20260222T193549Z
UID:10001091-1773306000-1773311400@www.kulturverein-belm.de
SUMMARY:Textverarbeitung für Einsteiger – am PC\, Smartphone oder Tablet
DESCRIPTION:Dieser Einsteigerkurs richtet sich an alle\, die grundlegende Kenntnisse der Textverarbeitung erwerben möchten – unabhängig davon\, ob Sie mit Laptop\, Smartphone oder Tablet arbeiten. \nInhalte des Kurses: \n\nArbeiten mit Textverarbeitung (Microsoft Word oder Open Office usw.):\nEinführung in das Verfassen und Bearbeiten von Texten.\nUmgang mit Mailprogrammen:\nE-Mails schreiben\, beantworten und verwalten.\nSicheres Arbeiten mit der Tastatur:\nTipps und Übungen für Laptop-\, Smartphone- und Tablet-Tastaturen.\nTexte formatieren:\nSchriftgröße\, Fettdruck\, Kursiv\, verschiedene Schriftarten\, Aufzählungen\, Tabstopps und weitere grundlegende Formatierungen.\nAnhänge versenden:\nDokumente\, Fotos oder andere Dateien sicher per E-Mail verschicken.\nInternetanwendungen\nSuchen von Begriffen und Inhalten (Kochrezepte\, Urlaubsplanung usw.)\nIndividuelle Unterstützung:\nAuf persönliche Fragen und Probleme wird selbstverständlich eingegangen.\nFür eine vertiefte Beratung bietet Bikult die „Digitale Sprechstunde“ an.\n\nWann und wo findet der Kurs statt: \n\nder Kurs findet in der Regel alle 14 Tage am Donnerstag in der Zeit von 9:00 – 10:30 Uhr statt\nTreffpunkt ist das Gemeindehaus der ev.-luth. Christuskirche\, Belmer Str. 1 in Belm.\n\nKosten und Voraussetzung: \n\nVoraussetzung für die Teilnahme an diesem Kurs ist eine BiKult Vereinsmitgliedschaft \nZudem fällt eine BiKult PC-Club Jahresgebühr von 18\,00 € an. Diese Jahresgebühr beinhaltet die Teilnahme an sämtlichen BiKult PC-Club Angeboten im Laufe eines Jahres. \n\nText NP
URL:https://www.kulturverein-belm.de/veranstaltung/textverarbeitung-fuer-anfaenger-am-pc-smartphone-oder-tablet/2026-03-12/
LOCATION:Gemeindehaus der ev.-luth. Christuskirche Belm\,\, Belmer Str. 1\, Belm\, 49191
CATEGORIES:PC-Club
ATTACH;FMTTYPE=image/jpeg:https://www.kulturverein-belm.de/wp-content/uploads/2024/03/2024-BiKult-PC-Club.jpg
END:VEVENT
BEGIN:VEVENT
DTSTART;TZID=Europe/Berlin:20260312T110000
DTEND;TZID=Europe/Berlin:20260312T123000
DTSTAMP:20260424T133855
CREATED:20260116T150448Z
LAST-MODIFIED:20260116T150448Z
UID:10001172-1773313200-1773318600@www.kulturverein-belm.de
SUMMARY:Handy und PC   -   bei den PC-Flüsterern
DESCRIPTION:Alle 14 Tage donnerstags   –   ab sofort mit neuem Namen \nWas dahinter steckt? Kommt\, stoßt dazu\, dann erfahrt ihr es! \n  \nDigitale Geräte können Türen öffnen (oft ist es gar nicht mal so schwer!) und so entdecken wir gemeinsam Wege\, um uns sicher und souverän im Netz zu bewegen. Unsere Gruppe trifft sich jeden zweiten Donnerstag um 11:00 Uhr im Gemeindehaus um in gemütlicher Atmosphäre Unklarheiten im Umgang mit PC\, Tablet oder Mobiltelefon zu klären und Neues zu entdecken. Niemand wird zurückgelassen und keine Frage ist zu dumm. Manchmal entspinnen sich daraus die besten Diskussionen\, die uns alle weiterbringen. Wir freuen uns auf neue Gesichter – vielleicht bist du ja auch nächstes Mal dabei? \n  \nWann und wo findet der Kurs statt: \n\nder Kurs findet in der Regel alle 14 Tage am Donnerstag in der Zeit von 11:00 – 12:30 Uhr statt\nTreffpunkt ist das Gemeindehaus der ev.-luth. Christuskirche\, Belmer Str. 1 in Belm.\n\nKosten und Voraussetzung: \n\nVoraussetzung für die Teilnahme an diesem Kurs ist eine BiKult Vereinsmitgliedschaft \nZudem fällt eine BiKult PC-Club Jahresgebühr von 18\,00 € an. Diese Jahresgebühr beinhaltet die Teilnahme an sämtlichen BiKult PC-Club Angeboten im Laufe eines Jahres. \n\nText NP
URL:https://www.kulturverein-belm.de/veranstaltung/handy-und-pc-bei-den-pc-fluesterern/2026-03-12/
LOCATION:Gemeindehaus der ev.-luth. Christuskirche Belm\,\, Belmer Str. 1\, Belm\, 49191
CATEGORIES:PC-Club
ATTACH;FMTTYPE=image/jpeg:https://www.kulturverein-belm.de/wp-content/uploads/2025/08/2025-Die-PC-Fluesterer-66x22-mm.jpg
END:VEVENT
END:VCALENDAR